BEGIN:VCALENDAR
VERSION:2.0
PRODID:-//wp-events-plugin.com//7.2.3.1//EN
TZID:Europe/Madrid
X-WR-TIMEZONE:Europe/Madrid
BEGIN:VEVENT
UID:19@espana.seu-archives.org
DTSTART;TZID=Europe/Madrid:20230112T190000
DTEND;TZID=Europe/Madrid:20230112T190000
DTSTAMP:20230104T144539Z
URL:https://espana.seu-archives.org/events/evento-presencial-post-navideno
 -de-barcelona/
SUMMARY:Evento presencial post navideño de Barcelona
DESCRIPTION:El próximo 12 de Enero a las 19h organizamos una cena de "Año
  nuevo" en Barcelona para encontrarnos pasadas las fiestas y poder arranca
 r este 2023 con fuerza. La cena será en el restaurante Beggé Africa (Car
 rer de Sant Pau\, 10)\, de comida senegalense\, que además apoya a un pro
 yecto educativo en Senegal. ¿Te la vas a perder? ¡Te esperamos! En Begge
  Africa\n\nhttps://espana.seu-archives.org/events/evento-presencial-post-n
 avideno-de-barcelona/
ATTACH;FMTTYPE=image/jpeg:https://espana.seu-archives.org/wp-content/uploa
 ds/Screenshot-2022-12-20-at-10.29.27.png
CATEGORIES:Barcelona
END:VEVENT
BEGIN:VTIMEZONE
TZID:Europe/Madrid
X-LIC-LOCATION:Europe/Madrid
BEGIN:STANDARD
DTSTART:20221030T020000
TZOFFSETFROM:+0200
TZOFFSETTO:+0100
TZNAME:CET
END:STANDARD
END:VTIMEZONE
END:VCALENDAR